BEGIN:VCALENDAR
VERSION:2.0
PRODID:-//Triangle Farms - ECPv6.15.17.1//NONSGML v1.0//EN
CALSCALE:GREGORIAN
METHOD:PUBLISH
X-WR-CALNAME:Triangle Farms
X-ORIGINAL-URL:https://trianglefarms.com
X-WR-CALDESC:Events for Triangle Farms
REFRESH-INTERVAL;VALUE=DURATION:PT1H
X-Robots-Tag:noindex
X-PUBLISHED-TTL:PT1H
BEGIN:VTIMEZONE
TZID:UTC
BEGIN:STANDARD
TZOFFSETFROM:+0000
TZOFFSETTO:+0000
TZNAME:UTC
DTSTART:20250101T000000
END:STANDARD
END:VTIMEZONE
BEGIN:VEVENT
DTSTART;VALUE=DATE:20260514
DTEND;VALUE=DATE:20260518
DTSTAMP:20260421T104150
CREATED:20201011T154137Z
LAST-MODIFIED:20260128T193749Z
UID:1689-1778716800-1779062399@trianglefarms.com
SUMMARY:Triangle Sandhills Spring Classic 'A'
DESCRIPTION:Let Triangle Farms warm your winter and brighten your spring with our ‘Winter to Spring’ A Show Circuit. Enjoy beautiful facilities\, exciting classes and as always Triangle Farms hospitality. \nCome Show With Us!
URL:https://trianglefarms.com/calendar/triangle-sandhills-spring-classic-a/
LOCATION:Carolina Horse Park\, 2814 Montrose Road\, Raeford\, NC\, 28376\, United States
END:VEVENT
BEGIN:VEVENT
DTSTART;VALUE=DATE:20260717
DTEND;VALUE=DATE:20260720
DTSTAMP:20260421T104150
CREATED:20200206T121824Z
LAST-MODIFIED:20260226T022658Z
UID:918-1784246400-1784505599@trianglefarms.com
SUMMARY:Triangle Farms Summer Indoors I 'C'
DESCRIPTION:The show season is heating up with Triangle Farms Summer Indoors ‘C’ Series. Let us help you stay cool with our beautiful facilities\, fun classes and as always Triangle Farms hospitality.  Come Show With Us!
URL:https://trianglefarms.com/calendar/triangle-farms-summer-indoors-i-c/
LOCATION:Governor James B. Hunt Horse Complex\, 4601 Trinity Rd.\, Raleigh\, NC\, 27606\, United States
END:VEVENT
BEGIN:VEVENT
DTSTART;VALUE=DATE:20260821
DTEND;VALUE=DATE:20260824
DTSTAMP:20260421T104150
CREATED:20200206T121934Z
LAST-MODIFIED:20260226T022744Z
UID:920-1787270400-1787529599@trianglefarms.com
SUMMARY:Triangle Farms Summer Indoors II 'C'
DESCRIPTION:The show season is heating up with Triangle Farms Summer Indoors ‘C’ Series. Let us help you stay cool with our beautiful facilities\, fun classes and as always Triangle Farms hospitality. \nCome Show With Us!
URL:https://trianglefarms.com/calendar/triangle-farms-summer-indoors-ii-c/
LOCATION:Governor James B. Hunt Horse Complex\, 4601 Trinity Rd.\, Raleigh\, NC\, 27606\, United States
END:VEVENT
BEGIN:VEVENT
DTSTART;VALUE=DATE:20260930
DTEND;VALUE=DATE:20261005
DTSTAMP:20260421T104150
CREATED:20200206T123359Z
LAST-MODIFIED:20260213T204319Z
UID:924-1790726400-1791158399@trianglefarms.com
SUMMARY:NC State Fair Hunter & Jumper Show
DESCRIPTION:Enjoy our beautiful facilities\, fun classes and as always Triangle Farms hospitality. \nCome Show With Us!
URL:https://trianglefarms.com/calendar/nc-state-fair-hunter-jumper-premier-aa-show/
LOCATION:Governor James B. Hunt Horse Complex\, 4601 Trinity Rd.\, Raleigh\, NC\, 27606\, United States
END:VEVENT
BEGIN:VEVENT
DTSTART;VALUE=DATE:20261030
DTEND;VALUE=DATE:20261102
DTSTAMP:20260421T104150
CREATED:20190913T101720Z
LAST-MODIFIED:20260214T143139Z
UID:372-1793318400-1793577599@trianglefarms.com
SUMMARY:Triangle Farms Indoors 'C' Finale
DESCRIPTION:
URL:https://trianglefarms.com/calendar/triangle-farms-indoors-c-finale-nchja-c-equitation-finals/
LOCATION:Governor James B. Hunt Horse Complex\, 4601 Trinity Rd.\, Raleigh\, NC\, 27606\, United States
END:VEVENT
BEGIN:VEVENT
DTSTART;VALUE=DATE:20261104
DTEND;VALUE=DATE:20261109
DTSTAMP:20260421T104150
CREATED:20191014T142704Z
LAST-MODIFIED:20260213T204449Z
UID:806-1793750400-1794182399@trianglefarms.com
SUMMARY:'Jump for the Children' I Benefiting Duke Children's
DESCRIPTION:Saturday Night Grand Prix – Ticket Sales/Doors Open at 5PM \nDuke I \n$50\,000 Duke Children’s Grand Prix \n$25\,000 Welcome Stake \n$10\,000 USHJA National Hunter Derby \n$5\,000 USHJA Pony Hunter Derby \nWhen making STALL RESERVATIONS….please click on the provided link then you must REGISTER (if a new user)\, LOGIN\, SELECT SHOW\, then click ADD HORSE to begin
URL:https://trianglefarms.com/calendar/jump-for-the-children-premiere-aa-benefiting-duke-childrens/
LOCATION:Tryon International Equestrian Center\, 25 International Blvd.\, Mill Spring\, NC\, 27603\, United States
END:VEVENT
BEGIN:VEVENT
DTSTART;VALUE=DATE:20261111
DTEND;VALUE=DATE:20261116
DTSTAMP:20260421T104150
CREATED:20191014T150518Z
LAST-MODIFIED:20260213T204542Z
UID:810-1794355200-1794787199@trianglefarms.com
SUMMARY:'Jump for the Children' II Benefiting Duke Children's
DESCRIPTION:Saturday Night Grand Prix – Ticket Sales/Doors Open at 5PM. \nDuke II \n$50\,000 Duke Children’s Grand Prix \n$25\,000 Welcome Stake \n$10\,000 USHJA National Hunter Derby \n$5\,000 USHJA Pony Hunter Derby \nWhen making STALL RESERVATIONS….please click on the provided link then you must REGISTER (if a new user)\, LOGIN\, SELECT SHOW\, then click ADD HORSE to begin
URL:https://trianglefarms.com/calendar/jump-for-the-children-ii-premiere-aa-benefiting-duke-childrens/
LOCATION:Tryon International Equestrian Center\, 25 International Blvd.\, Mill Spring\, NC\, 27603\, United States
END:VEVENT
BEGIN:VEVENT
DTSTART;VALUE=DATE:20261228
DTEND;VALUE=DATE:20270101
DTSTAMP:20260421T104150
CREATED:20221228T131407Z
LAST-MODIFIED:20260213T204837Z
UID:2060-1798416000-1798761599@trianglefarms.com
SUMMARY:Raleigh Indoors Holiday Classic 'A'
DESCRIPTION:Let Triangle Farms warm your winter and brighten your spring with our  ‘Winter to Spring’ A Show Circuit. Enjoy beautiful facilities\, exciting classes and as always Triangle Farms hospitality. \n 
URL:https://trianglefarms.com/calendar/raleigh-indoors-holiday-classic-a-3/
LOCATION:Governor James B. Hunt Horse Complex\, 4601 Trinity Rd.\, Raleigh\, NC\, 27606\, United States
END:VEVENT
END:VCALENDAR